BEGIN:VCALENDAR
VERSION:2.0
PRODID:-//artifica.one//Carcans//FR
CALSCALE:GREGORIAN
METHOD:PUBLISH
BEGIN:VEVENT
SUMMARY:𝐋𝐎𝐓𝐎 organisé par l'association &quot; Les
  parents de-ci de-là&quot;
UID:1280
SEQUENCE:0
STATUS:CONFIRMED
TRANSP:TRANSPARENT
DTSTART:20260411T060000Z
DTEND:20260411T180000Z
DTSTAMP:20230327T144125Z

DESCRIPTION:
URL:https://www.carcans.fr/agenda/organise-par-l-association-les-parents-de-ci-de-la-1280
END:VEVENT
END:VCALENDAR
