BEGIN:VCALENDAR
VERSION:2.0
PRODID:-//artifica.one//Carcans//FR
CALSCALE:GREGORIAN
METHOD:PUBLISH
BEGIN:VEVENT
SUMMARY:𝐂𝐨𝐦𝐦𝐞́𝐦𝐨𝐫𝐚𝐭𝐢𝐨
 𝐧 du 8 mai 1945
UID:1337
SEQUENCE:0
STATUS:CONFIRMED
TRANSP:TRANSPARENT
DTSTART:20260508T060000Z
DTEND:20260508T180000Z
DTSTAMP:20230417T145742Z
CATEGORIES:Mairie
DESCRIPTION:
URL:https://www.carcans.fr/agenda/du-8-mai-1945-1337
END:VEVENT
END:VCALENDAR
