BEGIN:VCALENDAR
VERSION:2.0
PRODID:-//artifica.one//Carcans//FR
CALSCALE:GREGORIAN
METHOD:PUBLISH
BEGIN:VEVENT
SUMMARY:Lady Surfing Day
UID:1610
SEQUENCE:0
STATUS:CONFIRMED
TRANSP:TRANSPARENT
DTSTART:20250913T060000Z
DTEND:20250913T180000Z
DTSTAMP:20230825T104038Z
CATEGORIES:Sport
DESCRIPTION:
URL:https://www.carcans.fr/agenda/lady-surfing-day-1610
END:VEVENT
END:VCALENDAR
