BEGIN:VCALENDAR
VERSION:2.0
PRODID:-//artifica.one//Carcans//FR
CALSCALE:GREGORIAN
METHOD:PUBLISH
BEGIN:VEVENT
SUMMARY:𝐓𝐇𝐄́ 𝐃𝐀𝐍𝐒𝐀𝐍𝐓 organi
 sé par le Comité des Fêtes de Carcans
UID:2018
SEQUENCE:0
STATUS:CONFIRMED
TRANSP:TRANSPARENT
DTSTART:20260131T070000Z
DTEND:20260131T190000Z
DTSTAMP:20240212T110752Z
CATEGORIES:Culture / événements
DESCRIPTION:
URL:https://www.carcans.fr/agenda/organise-par-le-comite-des-fetes-de-carcans-2018
END:VEVENT
END:VCALENDAR
