BEGIN:VCALENDAR
VERSION:2.0
PRODID:-//artifica.one//Carcans//FR
CALSCALE:GREGORIAN
METHOD:PUBLISH
BEGIN:VEVENT
SUMMARY:Les Jeudis du Café Numérique
UID:2634
SEQUENCE:0
STATUS:CONFIRMED
TRANSP:TRANSPARENT
DTSTART:20250918T060000Z
DTEND:20250918T180000Z
DTSTAMP:20240426T114704Z

DESCRIPTION:
URL:https://www.carcans.fr/agenda/les-jeudis-du-cafe-numerique-2634
END:VEVENT
END:VCALENDAR
